Workbook

Sheet Sheet1
A1: MUSIC TEACHER FTE | B1: Elementary | E1: Middle School | I1: High School | M1: Other | N1: Non-Music | O1: Total
B2: Vocal/General | C2: Band | D2: Strings | E2: General | F2: Band | G2: Strings | H2: Choir | I2: General | J2: Band | K2: Strings | L2: Choir | M2: Music
A3: Teacher 1 | B3: 0.5 | O3: =SUM(B3:N3) -> 0.5
A4: Teacher 2 | B4: 1 | O4: =SUM(B4:N4) -> 1
A5: Teacher 3 | B5: 1 | O5: =SUM(B5:N5) -> 1
A6: Teacher 4 | H6: 0.333 | L6: 0.167 | O6: =SUM(B6:N6) -> 0.5
A7: Teacher 5 | B7: 0.584 | F7: 0.416 | O7: =SUM(B7:N7) -> 1
A8: Teacher 6 | H8: 1 | O8: =SUM(B8:N8) -> 1
A9: Teacher 7 | J9: 0.667 | L9: 0.333 | O9: =SUM(B9:N9) -> 1
A10: Teacher 8 | B10: 1 | O10: =SUM(B10:N10) -> 1
A11: Teacher 9 | H11: 0.5 | L11: 0.333 | O11: =SUM(B11:N11) -> 0.833
A12: Teacher 10 | I12: 0.333 | J12: 0.667 | O12: =SUM(B12:N12) -> 1
A13: Teacher 11 | F13: 0.25 | N13: 0.75 | O13: =SUM(B13:N13) -> 1
A14: Teacher 12 | E14: 0.167 | F14: 0.25 | I14: 0.333 | J14: 0.25 | O14: =SUM(B14:N14) -> 1
A15: Teacher 13 | B15: 1 | O15: =SUM(B15:N15) -> 1
A16: Teacher 14 | E16: 0.5 | H16: 0.5 | O16: =SUM(B16:N16) -> 1
A17: Teacher 15 | B17: 0.9 | E17: 0.1 | O17: =SUM(B17:N17) -> 1
A18: Teacher 16 | B18: 1 | O18: =SUM(B18:N18) -> 1
A19: Teacher 17 | F19: 0.667 | N19: 0.333 | O19: =SUM(B19:N19) -> 1
A20: Teacher 18 | F20: 0.5 | I20: 0.167 | J20: 0.333 | O20: =SUM(B20:N20) -> 1
A21: Teacher 19 | B21: 1 | O21: =SUM(B21:N21) -> 1
A22: Teacher 20 | H22: 1 | O22: =SUM(B22:N22) -> 1
A23: Teacher 21 | B23: 0.5 | O23: =SUM(B23:N23) -> 0.5
A24: Teacher 22 | J24: 0.333 | L24: 0.5 | N24: 0.167 | O24: =SUM(B24:N24) -> 1
A25: Teacher 23 | B25: 1 | O25: =SUM(B25:N25) -> 1
A26: Teacher 24 | B26: 1 | O26: =SUM(B26:N26) -> 1
A27: Teacher 25 | F27: 1 | O27: =SUM(B27:N27) -> 1
A28: Teacher 26 | B28: 1 | O28: =SUM(B28:N28) -> 1
A29: Teacher 27 | B29: 1 | O29: =SUM(B29:N29) -> 1
A30: Teacher 28 | L30: 0.333 | N30: 0.667 | O30: =SUM(B30:N30) -> 1
A31: Teacher 29 | E31: 0.084 | F31: 0.249 | L31: 0.667 | O31: =SUM(B31:N31) -> 1
A32: Teacher 30 | B32: 1 | O32: =SUM(B32:N32) -> 1
A33: Teacher 31 | J33: 0.6 | O33: =SUM(B33:N33) -> 0.6
A34: Teacher 32 | B34: 1 | O34: =SUM(B34:N34) -> 1
A35: Teacher 33 | B35: 1 | O35: =SUM(B35:N35) -> 1
A36: Teacher 34 | B36: 0.9 | E36: 0.1 | O36: =SUM(B36:N36) -> 1
A37: Teacher 35 | F37: 0.833 | O37: =SUM(B37:N37) -> 0.833
A38: Teacher 36 | I38: 0.167 | N38: 0.833 | O38: =SUM(B38:N38) -> 1
A39: Teacher 37 | E39: 0.5 | F39: 0.167 | H39: 0.166 | N39: 0.167 | O39: =SUM(B39:N39) -> 1
A40: Teacher 38 | B40: 1 | O40: =SUM(B40:N40) -> 1
...

Sheet Sheet2
A1: BAND ENROLLMENTS | B1: K | C1: Grade 1 | D1: Grade 2 | E1: Grade 3 | F1: Grade 4 | G1: Grade 5 | H1: Grade 6 | I1: Grade 7 | J1: Grade 8 | K1: Grade 9 | L1: Grade 10 | M1: Grade 11 | N1: Grade 12 | O1: Total
A2: School | G2: 0 | O2: =SUM(B2:N2) -> 0
A3: School | G3: 0 | O3: =SUM(B3:N3) -> 0
A4: School | G4: 0 | O4: =SUM(B4:N4) -> 0
A5: School | G5: 0 | O5: =SUM(B5:N5) -> 0
A6: School | G6: 0 | O6: =SUM(B6:N6) -> 0
A7: School | G7: 0 | O7: =SUM(B7:N7) -> 0
A8: School | G8: 0 | O8: =SUM(B8:N8) -> 0
A9: School | G9: 0 | O9: =SUM(B9:N9) -> 0
A10: School | G10: 0 | O10: =SUM(B10:N10) -> 0
A11: School | G11: 0 | O11: =SUM(B11:N11) -> 0
A12: School | G12: 0 | O12: =SUM(B12:N12) -> 0
A13: School | G13: 0 | O13: =SUM(B13:N13) -> 0
... A24: School | G24: 0 | O24: =SUM(B24:N24) -> 0
A25: School | G25: 0 | H25: 36 | I25: 24 | J25: 25 | O25: =SUM(B25:N25) -> 85
A26: School | G26: 0 | O26: =SUM(B26:N26) -> 0
A27: School | G27: 0 | O27: =SUM(B27:N27) -> 0
A28: School | G28: 0 | O28: =SUM(B28:N28) -> 0
A29: School | G29: 0 | O29: =SUM(B29:N29) -> 0
A30: School | G30: 0 | O30: =SUM(B30:N30) -> 0
A31: School | G31: 0 | O31: =SUM(B31:N31) -> 0
A32: School | G32: 0 | O32: =SUM(B32:N32) -> 0
A33: School | G33: 0 | O33: =SUM(B33:N33) -> 0
A34: School | G34: 0 | O34: =SUM(B34:N34) -> 0
A35: School | G35: 0 | O35: =SUM(B35:N35) -> 0
A36: School | H36: 71 | I36: 52 | J36: 44 | O36: =SUM(B36:N36) -> 167
A37: School | H37: 75 | I37: 40 | J37: 43 | O37: =SUM(B37:N37) -> 158
A38: School | H38: 48 | I38: 12 | J38: 25 | O38: =SUM(B38:N38) -> 85
A39: School | H39: 82 | I39: 61 | J39: 45 | O39: =SUM(B39:N39) -> 188
A40: School | H40: 131 | I40: 51 | J40: 29 | O40: =SUM(B40:N40) -> 211
A41: School | H41: 72 | I41: 44 | J41: 53 | O41: =SUM(B41:N41) -> 169
A42: School | H42: 124 | I42: 59 | J42: 52 | O42: =SUM(B42:N42) -> 235
A43: School | K43: 26 | L43: 21 | M43: 15 | N43: 18 | O43: =SUM(B43:N43) -> 80
A44: School | K44: 47 | L44: 11 | M44: 8 | N44: 15 | O44: =SUM(B44:N44) -> 81
A45: School | K45: 29 | L45: 37 | M45: 15 | N45: 15 | O45: =SUM(B45:N45) -> 96
A46: School | K46: 32 | L46: 20 | M46: 25 | N46: 15 | O46: =SUM(B46:N46) -> 92
A47: School | K47: 56 | L47: 41 | M47: 25 | N47: 33 | O47: =SUM(B47:N47) -> 155
A48: Arts Magnet School | H48: 4 | I48: 13 | J48: 14 | K48: 21 | L48: 16 | M48: 13 | N48: 8 | O48: =SUM(B48:N48) -> 89
A49: ISB Magnet School | H49: 73 | I49: 43 | J49: 45 | K49: 13 | L49: 14 | M49: 9 | N49: 5 | O49: =SUM(B49:N49) -> 202
A50: Science & Tech Magnet School | H50: 0 | I50: 0 | J50: 0 | K50: 0 | L50: 0 | M50: 0 | N50: 0 | O50: =SUM(B50:N50) -> 0
...

Sheet Sheet3
A1: STRING ENROLLMENTS | B1: K | C1: Grade 1 | D1: Grade 2 | E1: Grade 3 | F1: Grade 4 | G1: Grade 5 | H1: Grade 6 | I1: Grade 7 | J1: Grade 8 | K1: Grade 9 | L1: Grade 10 | M1: Grade 11 | N1: Grade 12 | O1: Total
A2: School | G2: 0 | O2: =SUM(B2:N2) -> 0
A3: School | G3: 0 | O3: =SUM(B3:N3) -> 0
A4: School | G4: 0 | O4: =SUM(B4:N4) -> 0
A5: School | G5: 0 | O5: =SUM(B5:N5) -> 0
A6: School | G6: 0 | O6: =SUM(B6:N6) -> 0
A7: School | G7: 0 | O7: =SUM(B7:N7) -> 0
A8: School | G8: 0 | O8: =SUM(B8:N8) -> 0
A9: School | G9: 0 | O9: =SUM(B9:N9) -> 0
A10: School | G10: 0 | O10: =SUM(B10:N10) -> 0
A11: School | G11: 0 | O11: =SUM(B11:N11) -> 0
A12: School | G12: 0 | O12: =SUM(B12:N12) -> 0
A13: School | G13: 0 | O13: =SUM(B13:N13) -> 0
... A24: School | G24: 0 | O24: =SUM(B24:N24) -> 0
A25: School | G25: 0 | H25: 0 | I25: 0 | J25: 0 | O25: =SUM(B25:N25) -> 0
A26: School | G26: 0 | O26: =SUM(B26:N26) -> 0
A27: School | G27: 0 | O27: =SUM(B27:N27) -> 0
A28: School | G28: 0 | O28: =SUM(B28:N28) -> 0
A29: School | G29: 0 | O29: =SUM(B29:N29) -> 0
A30: School | G30: 0 | O30: =SUM(B30:N30) -> 0
A31: School | G31: 0 | O31: =SUM(B31:N31) -> 0
A32: School | G32: 0 | O32: =SUM(B32:N32) -> 0
A33: School | G33: 0 | O33: =SUM(B33:N33) -> 0
A34: School | G34: 0 | O34: =SUM(B34:N34) -> 0
A35: School | G35: 0 | O35: =SUM(B35:N35) -> 0
A36: School | H36: 0 | I36: 0 | J36: 0 | O36: =SUM(B36:N36) -> 0
A37: School | H37: 0 | I37: 0 | J37: 0 | O37: =SUM(B37:N37) -> 0
A38: School | H38: 0 | I38: 0 | J38: 0 | O38: =SUM(B38:N38) -> 0
A39: School | H39: 0 | I39: 0 | J39: 0 | O39: =SUM(B39:N39) -> 0
A40: School | H40: 0 | I40: 0 | J40: 0 | O40: =SUM(B40:N40) -> 0
A41: School | H41: 0 | I41: 0 | J41: 0 | O41: =SUM(B41:N41) -> 0
A42: School | H42: 0 | I42: 0 | J42: 0 | O42: =SUM(B42:N42) -> 0
A43: School | K43: 0 | L43: 0 | M43: 0 | N43: 0 | O43: =SUM(B43:N43) -> 0
A44: School | K44: 0 | L44: 0 | M44: 0 | N44: 0 | O44: =SUM(B44:N44) -> 0
A45: School | K45: 0 | L45: 0 | M45: 0 | N45: 0 | O45: =SUM(B45:N45) -> 0
A46: School | K46: 0 | L46: 0 | M46: 0 | N46: 0 | O46: =SUM(B46:N46) -> 0
A47: School | K47: 0 | L47: 0 | M47: 0 | N47: 0 | O47: =SUM(B47:N47) -> 0
A48: Arts Magnet School | G48: 0 | H48: 3 | I48: 2 | J48: 6 | K48: 9 | L48: 5 | M48: 1 | N48: 4 | O48: =SUM(B48:N48) -> 30
A49: ISB Magnet School | K49: 0 | L49: 0 | M49: 0 | N49: 0 | O49: =SUM(B49:N49) -> 0
A50: Science & Tech Magnet School | K50: 0 | L50: 0 | M50: 0 | N50: 0 | O50: =SUM(B50:N50) -> 0
...

Sheet Sheet4
A1: CHOIR ENROLLMENTS | B1: K | C1: Grade 1 | D1: Grade 2 | E1: Grade 3 | F1: Grade 4 | G1: Grade 5 | H1: Grade 6 | I1: Grade 7 | J1: Grade 8 | K1: Grade 9 | L1: Grade 10 | M1: Grade 11 | N1: Grade 12 | O1: Total
A2: School | G2: 0 | O2: =SUM(B2:N2) -> 0
A3: School | G3: 0 | O3: =SUM(B3:N3) -> 0
A4: School | G4: 0 | O4: =SUM(B4:N4) -> 0
A5: School | G5: 0 | O5: =SUM(B5:N5) -> 0
A6: School | G6: 0 | O6: =SUM(B6:N6) -> 0
A7: School | G7: 0 | O7: =SUM(B7:N7) -> 0
A8: School | G8: 0 | O8: =SUM(B8:N8) -> 0
A9: School | G9: 0 | O9: =SUM(B9:N9) -> 0
A10: School | G10: 0 | O10: =SUM(B10:N10) -> 0
A11: School | G11: 0 | O11: =SUM(B11:N11) -> 0
A12: School | G12: 0 | O12: =SUM(B12:N12) -> 0
A13: School | G13: 0 | O13: =SUM(B13:N13) -> 0
... A24: School | G24: 0 | O24: =SUM(B24:N24) -> 0
A25: School | G25: 0 | H25: 0 | I25: 29 | J25: 24 | O25: =SUM(B25:N25) -> 53
A26: School | G26: 0 | O26: =SUM(B26:N26) -> 0
A27: School | G27: 0 | O27: =SUM(B27:N27) -> 0
A28: School | G28: 0 | O28: =SUM(B28:N28) -> 0
A29: School | G29: 0 | O29: =SUM(B29:N29) -> 0
A30: School | G30: 0 | O30: =SUM(B30:N30) -> 0
A31: School | G31: 0 | O31: =SUM(B31:N31) -> 0
A32: School | G32: 0 | O32: =SUM(B32:N32) -> 0
A33: School | G33: 0 | O33: =SUM(B33:N33) -> 0
A34: School | G34: 0 | O34: =SUM(B34:N34) -> 0
A35: School | G35: 0 | O35: =SUM(B35:N35) -> 0
A36: School | H36: 41 | I36: 83 | J36: 76 | O36: =SUM(B36:N36) -> 200
A37: School | H37: 46 | I37: 120 | J37: 174 | O37: =SUM(B37:N37) -> 340
A38: School | H38: 0 | I38: 0 | J38: 0 | O38: =SUM(B38:N38) -> 0
A39: School | H39: 0 | I39: 0 | J39: 0 | O39: =SUM(B39:N39) -> 0
A40: School | H40: 51 | I40: 103 | J40: 78 | O40: =SUM(B40:N40) -> 232
A41: School | H41: 0 | I41: 71 | J41: 96 | O41: =SUM(B41:N41) -> 167
A42: School | H42: 0 | I42: 0 | J42: 0 | O42: =SUM(B42:N42) -> 0
A43: School | H43: 0 | I43: 0 | J43: 0 | O43: =SUM(B43:N43) -> 0
A44: School | K44: 29 | L44: 37 | M44: 26 | N44: 21 | O44: =SUM(B44:N44) -> 113
A45: School | K45: 22 | L45: 27 | M45: 31 | N45: 25 | O45: =SUM(B45:N45) -> 105
A46: School | K46: 26 | L46: 59 | M46: 43 | N46: 40 | O46: =SUM(B46:N46) -> 168
A47: School | K47: 50 | L47: 39 | M47: 42 | N47: 38 | O47: =SUM(B47:N47) -> 169
A48: School | K48: 57 | L48: 32 | M48: 52 | N48: 93 | O48: =SUM(B48:N48) -> 234
A49: Arts Magnet School | H49: 95 | I49: 37 | J49: 14 | K49: 12 | L49: 7 | M49: 2 | N49: 10 | O49: =SUM(B49:N49) -> 177
A50: ISB Magnet School | H50: 87 | I50: 52 | J50: 59 | K50: 45 | L50: 37 | M50: 14 | N50: 9 | O50: =SUM(B50:N50) -> 303
...

Sheet Sheet5
A1: FTE SUMMARY
A3: All Elementary | B3: =Sheet1!B108 -> 20.784
A4: All Middle School | B4: =Sheet1!B109 -> 11.466
A5: All High School | B5: =Sheet1!B110 -> 8.25
A6: Other Music | B6: =Sheet1!B111 -> 0.075
A7: Non-Music | B7: =Sheet1!B112 -> 3.991
A8: Total FTE | B8: =Sheet1!B113 -> 44.566
A9: Total Secondary | B9: =Sheet1!B114 -> 19.716
A12: INSTRUMENTAL
A14: Elementary Band | B14: =Sheet1!B118 -> 0
A15: Middle School Band | B15: =Sheet1!B119 -> 5.832
A16: High School Band | B16: =Sheet1!B120 -> 3.517
A17: Total Band | B17: =Sheet1!B121 -> 9.349
A18: Secondary Band (6-12) | B18: =Sheet1!B122 -> 9.349
A20: Elementary Strings | B20: =Sheet1!B124 -> 0
A21: Middle School Strings | B21: =Sheet1!B125 -> 0.084
A22: High School Strings | B22: =Sheet1!B126 -> 0.083
A23: Total Strings | B23: =Sheet1!B127 -> 0.167
A24: Secondary Strings (6-12) | B24: =Sheet1!B128 -> 0.167
A26: CHORAL
A28: Middle School Choir | B28: =Sheet1!B132 -> 3.999
A29: High School Choir | B29: =Sheet1!B133 -> 3.65
A30: Secondary Choir (6-12) | B30: =Sheet1!B134 -> 7.649
A32: MUSIC PERFORMANCE
A34: Elementary | B34: =Sheet1!B138 -> 0
A35: Middle School | B35: =Sheet1!B139 -> 9.915
A36: High School | B36: =Sheet1!B140 -> 7.25
A37: Secondary (6-12) | B37: =Sheet1!B141 -> 17.165
A39: GENERAL MUSIC
A41: Elementary Vocal/General | B41: =Sheet1!B145 -> 20.784
A42: Middle School | B42: =Sheet1!B146 -> 1.551
A43: High School | B43: =Sheet1!B147 -> 1
A44: All General | B44: =Sheet1!B148 -> 23.335
A45: Secondary General (6-12) | B45: =SUM(B42:B43) -> 2.551
B47: {=B47:O47K} -> #NAME? | C47: Grade 1 | D47: Grade 2 | E47: Grade 3 | F47: Grade 4 | G47: Grade 5 | H47: Grade 6 | I47: Grade 7 | J47: Grade 8 | K47: Grade 9 | L47: Grade 10 | M47: Grade 11 | N47: Grade 12 | O47: Total
A48: DISTRICT ENROLLMENT | B48: =Sheet2!B129 -> 2938 | C48: =Sheet2!C129 -> 3161 | D48: =Sheet2!D129 -> 3157 | E48: =Sheet2!E129 -> 3081 | F48: =Sheet2!F129 -> 3217 | G48: =Sheet2!G129 -> 3029 | H48: =Sheet2!H129 -> 3049 | I48: =Sheet2!I129 -> 3042 | ... O48: =Sheet2!O129 -> 39488
A50: Grades 1-5 | B50: =SUM(B48:G48) -> 18583
A51: Grades 3-5 | B51: =SUM(E48:G48) -> 9327
A52: Grades 4-5 | B52: =SUM(F48:G48) -> 6246
A53: Grades 6-8 | B53: =SUM(H48:J48) -> 9072
...

Sheet Sheet6
