Workbook

Sheet Sheet1
A1: MUSIC TEACHER FTE | B1: Elementary | E1: Middle School | I1: High School | M1: Other | N1: Non-Music | O1: Total
B2: Vocal/General | C2: Band | D2: Strings | E2: General | F2: Band | G2: Strings | H2: Choir | I2: General | J2: Band | K2: Strings | L2: Choir | M2: Music
A3: Teacher 1 | B3: 0.5 | O3: =SUM(B3:N3) -> 0.5
A4: Teacher 2 | B4: 1 | O4: =SUM(B4:N4) -> 1
A5: Teacher 3 | B5: 1 | O5: =SUM(B5:N5) -> 1
A6: Teacher 4 | H6: 0.333 | L6: 0.167 | O6: =SUM(B6:N6) -> 0.5
A7: Teacher 5 | B7: 0.584 | F7: 0.416 | O7: =SUM(B7:N7) -> 1
A8: Teacher 6 | H8: 1 | O8: =SUM(B8:N8) -> 1
A9: Teacher 7 | J9: 0.667 | L9: 0.333 | O9: =SUM(B9:N9) -> 1
A10: Teacher 8 | B10: 1 | O10: =SUM(B10:N10) -> 1
A11: Teacher 9 | H11: 0.5 | L11: 0.333 | O11: =SUM(B11:N11) -> 0.833
A12: Teacher 10 | I12: 0.333 | J12: 0.667 | O12: =SUM(B12:N12) -> 1
A13: Teacher 11 | F13: 0.25 | N13: 0.75 | O13: =SUM(B13:N13) -> 1
A14: Teacher 12 | E14: 0.167 | F14: 0.25 | I14: 0.333 | J14: 0.25 | O14: =SUM(B14:N14) -> 1
A15: Teacher 13 | B15: 1 | O15: =SUM(B15:N15) -> 1
A16: Teacher 14 | E16: 0.5 | H16: 0.5 | O16: =SUM(B16:N16) -> 1
A17: Teacher 15 | B17: 0.9 | E17: 0.1 | O17: =SUM(B17:N17) -> 1
A18: Teacher 16 | B18: 1 | O18: =SUM(B18:N18) -> 1
A19: Teacher 17 | F19: 0.667 | N19: 0.333 | O19: =SUM(B19:N19) -> 1
A20: Teacher 18 | F20: 0.5 | I20: 0.167 | J20: 0.333 | O20: =SUM(B20:N20) -> 1
A21: Teacher 19 | B21: 1 | O21: =SUM(B21:N21) -> 1
A22: Teacher 20 | H22: 1 | O22: =SUM(B22:N22) -> 1
A23: Teacher 21 | B23: 0.5 | O23: =SUM(B23:N23) -> 0.5
A24: Teacher 22 | J24: 0.333 | L24: 0.5 | N24: 0.167 | O24: =SUM(B24:N24) -> 1
A25: Teacher 23 | B25: 1 | O25: =SUM(B25:N25) -> 1
A26: Teacher 24 | B26: 1 | O26: =SUM(B26:N26) -> 1
A27: Teacher 25 | F27: 1 | O27: =SUM(B27:N27) -> 1
A28: Teacher 26 | B28: 1 | O28: =SUM(B28:N28) -> 1
A29: Teacher 27 | B29: 1 | O29: =SUM(B29:N29) -> 1
A30: Teacher 28 | L30: 0.333 | N30: 0.667 | O30: =SUM(B30:N30) -> 1
A31: Teacher 29 | E31: 0.084 | F31: 0.249 | L31: 0.667 | O31: =SUM(B31:N31) -> 1
A32: Teacher 30 | B32: 1 | O32: =SUM(B32:N32) -> 1
A33: Teacher 31 | J33: 0.6 | O33: =SUM(B33:N33) -> 0.6
A34: Teacher 32 | B34: 1 | O34: =SUM(B34:N34) -> 1
A35: Teacher 33 | B35: 1 | O35: =SUM(B35:N35) -> 1
A36: Teacher 34 | B36: 0.9 | E36: 0.1 | O36: =SUM(B36:N36) -> 1
A37: Teacher 35 | F37: 0.833 | O37: =SUM(B37:N37) -> 0.833
A38: Teacher 36 | I38: 0.167 | N38: 0.833 | O38: =SUM(B38:N38) -> 1
A39: Teacher 37 | E39: 0.5 | F39: 0.167 | H39: 0.166 | N39: 0.167 | O39: =SUM(B39:N39) -> 1
A40: Teacher 38 | B40: 1 | O40: =SUM(B40:N40) -> 1
A41: Teacher 39 | B41: 0.9 | E41: 0.1 | O41: =SUM(B41:N41) -> 1
A42: Teacher 40 | B42: 1 | O42: =SUM(B42:N42) -> 1
A43: Teacher 41 | B43: 1 | O43: =SUM(B43:N43) -> 1
A44: Teacher 42 | J44: 0.667 | L44: 0.167 | N44: 0.166 | O44: =SUM(B44:N44) -> 1
A45: Teacher 43 | B45: 0.5 | O45: =SUM(B45:N45) -> 0.5
A46: Teacher 44 | L46: 1 | O46: =SUM(B46:N46) -> 1
A47: Teacher 45 | F47: 1 | O47: =SUM(B47:N47) -> 1
A48: Teacher 46 | L48: 0.15 | M48: 0.075 | N48: 0.075 | O48: =SUM(B48:N48) -> 0.3
A49: Teacher 47 | F49: 0.5 | H49: 0.5 | O49: =SUM(B49:N49) -> 1
A50: Teacher 48 | G50: 0.084 | K50: 0.083 | N50: 0.833 | O50: =SUM(B50:N50) -> 1
A51: Teacher # | O51: =SUM(B51:N51) -> 0
A52: Teacher # | O52: =SUM(B52:N52) -> 0
A53: Teacher # | O53: =SUM(B53:N53) -> 0
A54: Teacher # | O54: =SUM(B54:N54) -> 0
A55: Teacher # | O55: =SUM(B55:N55) -> 0
A56: Teacher # | O56: =SUM(B56:N56) -> 0
A57: Teacher # | O57: =SUM(B57:N57) -> 0
A58: Teacher # | O58: =SUM(B58:N58) -> 0
A59: Teacher # | O59: =SUM(B59:N59) -> 0
A60: Teacher # | O60: =SUM(B60:N60) -> 0
A61: Teacher # | O61: =SUM(B61:N61) -> 0
A62: Teacher # | O62: =SUM(B62:N62) -> 0
... A102: Teacher # | O102: =SUM(B102:N102) -> 0
A103: Totals | B103: =SUM(B3:B102) -> 20.784 | C103: =SUM(C3:C102) -> 0 | D103: =SUM(D3:D102) -> 0 | E103: =SUM(E3:E102) -> 1.551 | F103: =SUM(F3:F102) -> 5.832 | G103: =SUM(G3:G102) -> 0.084 | H103: =SUM(H3:H102) -> 3.999 | I103: =SUM(I3:I102) -> 1 | ... O103: =SUM(O3:O102) -> 44.566 | P103: =SUM(B103:N103) -> 44.566
A106: FTE SUMMARY
A108: All Elementary | B108: =SUM(B103:D103) -> 20.784
A109: All Middle School | B109: =SUM(E103:H103) -> 11.466
A110: All High School | B110: =SUM(I103:L103) -> 8.25
A111: Other Music | B111: =M103 -> 0.075
A112: Non-Music | B112: =N103 -> 3.991
A113: Total FTE | B113: =SUM(B108:B112) -> 44.566
A114: Total Secondary | B114: =SUM(B109:B110) -> 19.716
A116: INSTRUMENTAL
A118: Elementary Band | B118: =SUM(C103) -> 0
A119: Middle School Band | B119: =SUM(F103) -> 5.832
A120: High School Band | B120: =SUM(J103) -> 3.517
A121: Total Band | B121: =SUM(B118:B120) -> 9.349
A122: Secondary Band (6-12) | B122: =SUM(B119:B120) -> 9.349
A124: Elementary Strings | B124: =SUM(D103) -> 0
A125: Middle School Strings | B125: =SUM(G103) -> 0.084
A126: High School Strings | B126: =SUM(K103) -> 0.083
A127: Total Strings | B127: =SUM(B124:B126) -> 0.167
A128: Secondary Strings (6-12) | B128: =SUM(B125:B126) -> 0.167
A130: CHORAL
A132: Middle School Choir | B132: =SUM(H103) -> 3.999
A133: High School Choir | B133: =SUM(L103) -> 3.65
A134: Secondary Choir (6-12) | B134: =SUM(B132:B133) -> 7.649
A136: MUSIC PERFORMANCE
A138: Elementary | B138: =SUM(C103:D103) -> 0
A139: Middle School | B139: =SUM(F103:H103) -> 9.915
A140: High School | B140: =SUM(J103:L103) -> 7.25
A141: Secondary (6-12) | B141: =SUM(B139:B140) -> 17.165
A143: GENERAL MUSIC
A145: Elementary Vocal/General | B145: =SUM(B103) -> 20.784
A146: Middle School | B146: =SUM(E103) -> 1.551
A147: High School | B147: =SUM(I103) -> 1
A148: All General | B148: =SUM(B145:B147) -> 23.335
A149: Secondary General (6-12) | B149: =SUM(B146:B147) -> 2.551

Sheet Sheet2
A1: BAND ENROLLMENTS | B1: K | C1: Grade 1 | D1: Grade 2 | E1: Grade 3 | F1: Grade 4 | G1: Grade 5 | H1: Grade 6 | I1: Grade 7 | J1: Grade 8 | K1: Grade 9 | L1: Grade 10 | M1: Grade 11 | N1: Grade 12 | O1: Total
A2: School | G2: 0 | O2: =SUM(B2:N2) -> 0
A3: School | G3: 0 | O3: =SUM(B3:N3) -> 0
A4: School | G4: 0 | O4: =SUM(B4:N4) -> 0
A5: School | G5: 0 | O5: =SUM(B5:N5) -> 0
A6: School | G6: 0 | O6: =SUM(B6:N6) -> 0
A7: School | G7: 0 | O7: =SUM(B7:N7) -> 0
A8: School | G8: 0 | O8: =SUM(B8:N8) -> 0
A9: School | G9: 0 | O9: =SUM(B9:N9) -> 0
A10: School | G10: 0 | O10: =SUM(B10:N10) -> 0
A11: School | G11: 0 | O11: =SUM(B11:N11) -> 0
A12: School | G12: 0 | O12: =SUM(B12:N12) -> 0
A13: School | G13: 0 | O13: =SUM(B13:N13) -> 0
... A24: School | G24: 0 | O24: =SUM(B24:N24) -> 0
A25: School | G25: 0 | H25: 36 | I25: 24 | J25: 25 | O25: =SUM(B25:N25) -> 85
A26: School | G26: 0 | O26: =SUM(B26:N26) -> 0
A27: School | G27: 0 | O27: =SUM(B27:N27) -> 0
A28: School | G28: 0 | O28: =SUM(B28:N28) -> 0
A29: School | G29: 0 | O29: =SUM(B29:N29) -> 0
A30: School | G30: 0 | O30: =SUM(B30:N30) -> 0
A31: School | G31: 0 | O31: =SUM(B31:N31) -> 0
A32: School | G32: 0 | O32: =SUM(B32:N32) -> 0
A33: School | G33: 0 | O33: =SUM(B33:N33) -> 0
A34: School | G34: 0 | O34: =SUM(B34:N34) -> 0
A35: School | G35: 0 | O35: =SUM(B35:N35) -> 0
A36: School | H36: 71 | I36: 52 | J36: 44 | O36: =SUM(B36:N36) -> 167
A37: School | H37: 75 | I37: 40 | J37: 43 | O37: =SUM(B37:N37) -> 158
A38: School | H38: 48 | I38: 12 | J38: 25 | O38: =SUM(B38:N38) -> 85
A39: School | H39: 82 | I39: 61 | J39: 45 | O39: =SUM(B39:N39) -> 188
A40: School | H40: 131 | I40: 51 | J40: 29 | O40: =SUM(B40:N40) -> 211
A41: School | H41: 72 | I41: 44 | J41: 53 | O41: =SUM(B41:N41) -> 169
A42: School | H42: 124 | I42: 59 | J42: 52 | O42: =SUM(B42:N42) -> 235
A43: School | K43: 26 | L43: 21 | M43: 15 | N43: 18 | O43: =SUM(B43:N43) -> 80
A44: School | K44: 47 | L44: 11 | M44: 8 | N44: 15 | O44: =SUM(B44:N44) -> 81
A45: School | K45: 29 | L45: 37 | M45: 15 | N45: 15 | O45: =SUM(B45:N45) -> 96
A46: School | K46: 32 | L46: 20 | M46: 25 | N46: 15 | O46: =SUM(B46:N46) -> 92
A47: School | K47: 56 | L47: 41 | M47: 25 | N47: 33 | O47: =SUM(B47:N47) -> 155
A48: Arts Magnet School | H48: 4 | I48: 13 | J48: 14 | K48: 21 | L48: 16 | M48: 13 | N48: 8 | O48: =SUM(B48:N48) -> 89
A49: ISB Magnet School | H49: 73 | I49: 43 | J49: 45 | K49: 13 | L49: 14 | M49: 9 | N49: 5 | O49: =SUM(B49:N49) -> 202
A50: Science & Tech Magnet School | H50: 0 | I50: 0 | J50: 0 | K50: 0 | L50: 0 | M50: 0 | N50: 0 | O50: =SUM(B50:N50) -> 0
A51: School | O51: =SUM(B51:N51) -> 0
A52: School | O52: =SUM(B52:N52) -> 0
A53: School | O53: =SUM(B53:N53) -> 0
A54: School | O54: =SUM(B54:N54) -> 0
A55: School | O55: =SUM(B55:N55) -> 0
A56: School | O56: =SUM(B56:N56) -> 0
A57: School | O57: =SUM(B57:N57) -> 0
A58: School | O58: =SUM(B58:N58) -> 0
A59: School | O59: =SUM(B59:N59) -> 0
A60: School | O60: =SUM(B60:N60) -> 0
A61: School | O61: =SUM(B61:N61) -> 0
A62: School | O62: =SUM(B62:N62) -> 0
... A127: School | O127: =SUM(B127:N127) -> 0
A128: Band Totals | B128: =SUM(B2:B127) -> 0 | C128: =SUM(C2:C127) -> 0 | D128: =SUM(D2:D127) -> 0 | E128: =SUM(E2:E127) -> 0 | F128: =SUM(F2:F127) -> 0 | G128: =SUM(G2:G127) -> 0 | H128: =SUM(H2:H127) -> 716 | I128: =SUM(I2:I127) -> 399 | ... O128: =SUM(O2:O127) -> 2093 | P128: =SUM(B128:N128) -> 2093
A129: District Enrollment | B129: 2938 | C129: 3161 | D129: 3157 | E129: 3081 | F129: 3217 | G129: 3029 | H129: 3049 | I129: 3042 | J129: 2981 | K129: 2976 | L129: 2926 | M129: 2842 | N129: 3089 | O129: =SUM(B129:N129) -> 39488
A130: Participation % | B130: =B128/B129 -> 0 | C130: =C128/C129 -> 0 | D130: =D128/D129 -> 0 | E130: =E128/E129 -> 0 | F130: =F128/F129 -> 0 | G130: =G128/G129 -> 0 | H130: =H128/H129 -> 0.23483109 | I130: =I128/I129 -> 0.13116371 | ... O130: =O128/O129 -> 0.053003444
A131: Disparity Between Grades | C131: =(C128/B128)-1 -> #DIV/0! | D131: =(D128/C128)-1 -> #DIV/0! | E131: =(E128/D128)-1 -> #DIV/0! | F131: =(F128/E128)-1 -> #DIV/0! | G131: =(G128/F128)-1 -> #DIV/0! | H131: =(H128/G128)-1 -> #DIV/0! | I131: =(I128/H128)-1 -> -0.44273743 | J131: =(J128/I128)-1 -> -0.060150376 | ... N131: =(N128/M128)-1 -> -0.0090909091
A132: Reduce to 15% Max | B132: =B128 -> 0 | C132: =C128 -> 0 | D132: =D128 -> 0 | E132: =E128 -> 0 | F132: =F128 -> 0 | G132: =G128 -> 0 | H132: =H128 -> 716 | I132: =H132*0.85 -> 608.6 | J132: =I132*0.85 -> 517.31 | K132: =J132*0.85 -> 439.7135 | L132: =K132*0.85 -> 373.75648 | M132: =L132*0.85 -> 317.693 | N132: =M132*0.85 -> 270.03905 | O132: =SUM(B132:N132) -> 3243.112
H135: Grade 6 | I135: Grade 7 | J135: Grade 8 | K135: Grade 9 | L135: Grade 10 | M135: Grade 11 | N135: Grade 12 | O135: Total
A136: Secondary Ensembles (Annual) | H136: 6 | I136: 14 | J136: 9 | K136: 17 | L136: 18 | M136: 22 | N136: 37 | O136: =SUM(H136:N136) -> 123
A137: Secondary Ensembles (Semester) | O137: =SUM(H137:N137)/2 -> 0
A138: Total Secondary Ensembles | O138: =SUM(O136:O137) -> 123
A140: Total Band | O140: =O128+O138 -> 2216
A141: Secondary Band (6-12 | B141: =SUM(H128:N128) -> 2093

Sheet Sheet3
A1: STRING ENROLLMENTS | B1: K | C1: Grade 1 | D1: Grade 2 | E1: Grade 3 | F1: Grade 4 | G1: Grade 5 | H1: Grade 6 | I1: Grade 7 | J1: Grade 8 | K1: Grade 9 | L1: Grade 10 | M1: Grade 11 | N1: Grade 12 | O1: Total
A2: School | G2: 0 | O2: =SUM(B2:N2) -> 0
A3: School | G3: 0 | O3: =SUM(B3:N3) -> 0
A4: School | G4: 0 | O4: =SUM(B4:N4) -> 0
A5: School | G5: 0 | O5: =SUM(B5:N5) -> 0
A6: School | G6: 0 | O6: =SUM(B6:N6) -> 0
A7: School | G7: 0 | O7: =SUM(B7:N7) -> 0
A8: School | G8: 0 | O8: =SUM(B8:N8) -> 0
A9: School | G9: 0 | O9: =SUM(B9:N9) -> 0
A10: School | G10: 0 | O10: =SUM(B10:N10) -> 0
A11: School | G11: 0 | O11: =SUM(B11:N11) -> 0
A12: School | G12: 0 | O12: =SUM(B12:N12) -> 0
A13: School | G13: 0 | O13: =SUM(B13:N13) -> 0
... A24: School | G24: 0 | O24: =SUM(B24:N24) -> 0
A25: School | G25: 0 | H25: 0 | I25: 0 | J25: 0 | O25: =SUM(B25:N25) -> 0
A26: School | G26: 0 | O26: =SUM(B26:N26) -> 0
A27: School | G27: 0 | O27: =SUM(B27:N27) -> 0
A28: School | G28: 0 | O28: =SUM(B28:N28) -> 0
A29: School | G29: 0 | O29: =SUM(B29:N29) -> 0
A30: School | G30: 0 | O30: =SUM(B30:N30) -> 0
A31: School | G31: 0 | O31: =SUM(B31:N31) -> 0
A32: School | G32: 0 | O32: =SUM(B32:N32) -> 0
A33: School | G33: 0 | O33: =SUM(B33:N33) -> 0
A34: School | G34: 0 | O34: =SUM(B34:N34) -> 0
A35: School | G35: 0 | O35: =SUM(B35:N35) -> 0
A36: School | H36: 0 | I36: 0 | J36: 0 | O36: =SUM(B36:N36) -> 0
A37: School | H37: 0 | I37: 0 | J37: 0 | O37: =SUM(B37:N37) -> 0
A38: School | H38: 0 | I38: 0 | J38: 0 | O38: =SUM(B38:N38) -> 0
A39: School | H39: 0 | I39: 0 | J39: 0 | O39: =SUM(B39:N39) -> 0
A40: School | H40: 0 | I40: 0 | J40: 0 | O40: =SUM(B40:N40) -> 0
A41: School | H41: 0 | I41: 0 | J41: 0 | O41: =SUM(B41:N41) -> 0
A42: School | H42: 0 | I42: 0 | J42: 0 | O42: =SUM(B42:N42) -> 0
A43: School | K43: 0 | L43: 0 | M43: 0 | N43: 0 | O43: =SUM(B43:N43) -> 0
A44: School | K44: 0 | L44: 0 | M44: 0 | N44: 0 | O44: =SUM(B44:N44) -> 0
A45: School | K45: 0 | L45: 0 | M45: 0 | N45: 0 | O45: =SUM(B45:N45) -> 0
A46: School | K46: 0 | L46: 0 | M46: 0 | N46: 0 | O46: =SUM(B46:N46) -> 0
A47: School | K47: 0 | L47: 0 | M47: 0 | N47: 0 | O47: =SUM(B47:N47) -> 0
A48: Arts Magnet School | G48: 0 | H48: 3 | I48: 2 | J48: 6 | K48: 9 | L48: 5 | M48: 1 | N48: 4 | O48: =SUM(B48:N48) -> 30
A49: ISB Magnet School | K49: 0 | L49: 0 | M49: 0 | N49: 0 | O49: =SUM(B49:N49) -> 0
A50: Science & Tech Magnet School | K50: 0 | L50: 0 | M50: 0 | N50: 0 | O50: =SUM(B50:N50) -> 0
A51: School | O51: =SUM(B51:N51) -> 0
A52: School | O52: =SUM(B52:N52) -> 0
A53: School | O53: =SUM(B53:N53) -> 0
A54: School | O54: =SUM(B54:N54) -> 0
A55: School | O55: =SUM(B55:N55) -> 0
A56: School | O56: =SUM(B56:N56) -> 0
A57: School | O57: =SUM(B57:N57) -> 0
A58: School | O58: =SUM(B58:N58) -> 0
A59: School | O59: =SUM(B59:N59) -> 0
A60: School | O60: =SUM(B60:N60) -> 0
A61: School | O61: =SUM(B61:N61) -> 0
A62: School | O62: =SUM(B62:N62) -> 0
... A127: School | O127: =SUM(B127:N127) -> 0
A128: String Totals | B128: =SUM(B2:B127) -> 0 | C128: =SUM(C2:C127) -> 0 | D128: =SUM(D2:D127) -> 0 | E128: =SUM(E2:E127) -> 0 | F128: =SUM(F2:F127) -> 0 | G128: =SUM(G2:G127) -> 0 | H128: =SUM(H2:H127) -> 3 | I128: =SUM(I2:I127) -> 2 | ... O128: =SUM(O2:O127) -> 30 | P128: =SUM(O2:O127) -> 30
A129: District Enrollment | B129: =Sheet2!B129 -> 2938 | C129: =Sheet2!C129 -> 3161 | D129: =Sheet2!D129 -> 3157 | E129: =Sheet2!E129 -> 3081 | F129: =Sheet2!F129 -> 3217 | G129: =Sheet2!G129 -> 3029 | H129: =Sheet2!H129 -> 3049 | I129: =Sheet2!I129 -> 3042 | ... O129: =Sheet2!O129 -> 39488
A130: Participation % | B130: =B128/B129 -> 0 | C130: =C128/C129 -> 0 | D130: =D128/D129 -> 0 | E130: =E128/E129 -> 0 | F130: =F128/F129 -> 0 | G130: =G128/G129 -> 0 | H130: =H128/H129 -> 0.00098392916 | I130: =I128/I129 -> 0.0006574622 | ... O130: =O128/O129 -> 0.00075972447
A131: Disparity Between Grades | C131: =C127 -> 0 | D131: =D127 -> 0 | E131: =E127 -> 0 | F131: =F127 -> 0 | G131: =G127 -> 0 | H131: =H128 -> 3 | I131: =I128/H128-1 -> -0.33333333 | J131: =J128/I128-1 -> 2 | K131: =K128/J128-1 -> 0.5 | L131: =L128/K128-1 -> -0.44444444 | M131: =M128/L128-1 -> -0.8 | N131: =N128/M128-1 -> 3
A132: Reduce to 15% Max | B132: =B128 -> 0 | C132: =C128 -> 0 | D132: =D128 -> 0 | E132: =E128 -> 0 | F132: =F128 -> 0 | G132: =G128 -> 0 | H132: =H128 -> 3 | I132: =H132*0.85 -> 2.55 | J132: =I132*0.85 -> 2.1675 | K132: =J132*0.85 -> 1.842375 | L132: =K132*0.85 -> 1.5660187 | M132: =L132*0.85 -> 1.3311159 | N132: =M132*0.85 -> 1.1314485 | O132: =SUM(B132:N132) -> 13.588458
H135: Grade 6 | I135: Grade 7 | J135: Grade 8 | K135: Grade 9 | L135: Grade 10 | M135: Grade 11 | N135: Grade 12 | O135: Total
A136: Secondary Ensembles (Annual) | O136: =SUM(H136:N136) -> 0
A137: Secondary Ensembles (Semester) | O137: =SUM(H137:N137)/2 -> 0
A138: Total Secondary Ensembles | O138: =SUM(O136:O137) -> 0
A140: Total Strings | O140: =O128+O138 -> 30
A141: Secondary Strings (6-12) | B141: =SUM(H128:N128) -> 30

Sheet Sheet4
A1: CHOIR ENROLLMENTS | B1: K | C1: Grade 1 | D1: Grade 2 | E1: Grade 3 | F1: Grade 4 | G1: Grade 5 | H1: Grade 6 | I1: Grade 7 | J1: Grade 8 | K1: Grade 9 | L1: Grade 10 | M1: Grade 11 | N1: Grade 12 | O1: Total
A2: School | G2: 0 | O2: =SUM(B2:N2) -> 0
A3: School | G3: 0 | O3: =SUM(B3:N3) -> 0
A4: School | G4: 0 | O4: =SUM(B4:N4) -> 0
A5: School | G5: 0 | O5: =SUM(B5:N5) -> 0
A6: School | G6: 0 | O6: =SUM(B6:N6) -> 0
A7: School | G7: 0 | O7: =SUM(B7:N7) -> 0
A8: School | G8: 0 | O8: =SUM(B8:N8) -> 0
A9: School | G9: 0 | O9: =SUM(B9:N9) -> 0
A10: School | G10: 0 | O10: =SUM(B10:N10) -> 0
A11: School | G11: 0 | O11: =SUM(B11:N11) -> 0
A12: School | G12: 0 | O12: =SUM(B12:N12) -> 0
A13: School | G13: 0 | O13: =SUM(B13:N13) -> 0
... A24: School | G24: 0 | O24: =SUM(B24:N24) -> 0
A25: School | G25: 0 | H25: 0 | I25: 29 | J25: 24 | O25: =SUM(B25:N25) -> 53
A26: School | G26: 0 | O26: =SUM(B26:N26) -> 0
A27: School | G27: 0 | O27: =SUM(B27:N27) -> 0
A28: School | G28: 0 | O28: =SUM(B28:N28) -> 0
A29: School | G29: 0 | O29: =SUM(B29:N29) -> 0
A30: School | G30: 0 | O30: =SUM(B30:N30) -> 0
A31: School | G31: 0 | O31: =SUM(B31:N31) -> 0
A32: School | G32: 0 | O32: =SUM(B32:N32) -> 0
A33: School | G33: 0 | O33: =SUM(B33:N33) -> 0
A34: School | G34: 0 | O34: =SUM(B34:N34) -> 0
A35: School | G35: 0 | O35: =SUM(B35:N35) -> 0
A36: School | H36: 41 | I36: 83 | J36: 76 | O36: =SUM(B36:N36) -> 200
A37: School | H37: 46 | I37: 120 | J37: 174 | O37: =SUM(B37:N37) -> 340
A38: School | H38: 0 | I38: 0 | J38: 0 | O38: =SUM(B38:N38) -> 0
A39: School | H39: 0 | I39: 0 | J39: 0 | O39: =SUM(B39:N39) -> 0
A40: School | H40: 51 | I40: 103 | J40: 78 | O40: =SUM(B40:N40) -> 232
A41: School | H41: 0 | I41: 71 | J41: 96 | O41: =SUM(B41:N41) -> 167
A42: School | H42: 0 | I42: 0 | J42: 0 | O42: =SUM(B42:N42) -> 0
A43: School | H43: 0 | I43: 0 | J43: 0 | O43: =SUM(B43:N43) -> 0
A44: School | K44: 29 | L44: 37 | M44: 26 | N44: 21 | O44: =SUM(B44:N44) -> 113
A45: School | K45: 22 | L45: 27 | M45: 31 | N45: 25 | O45: =SUM(B45:N45) -> 105
A46: School | K46: 26 | L46: 59 | M46: 43 | N46: 40 | O46: =SUM(B46:N46) -> 168
A47: School | K47: 50 | L47: 39 | M47: 42 | N47: 38 | O47: =SUM(B47:N47) -> 169
A48: School | K48: 57 | L48: 32 | M48: 52 | N48: 93 | O48: =SUM(B48:N48) -> 234
A49: Arts Magnet School | H49: 95 | I49: 37 | J49: 14 | K49: 12 | L49: 7 | M49: 2 | N49: 10 | O49: =SUM(B49:N49) -> 177
A50: ISB Magnet School | H50: 87 | I50: 52 | J50: 59 | K50: 45 | L50: 37 | M50: 14 | N50: 9 | O50: =SUM(B50:N50) -> 303
A51: Science & Tech Magnet School | H51: 0 | I51: 0 | J51: 0 | K51: 0 | L51: 0 | M51: 0 | N51: 0 | O51: =SUM(B51:N51) -> 0
A52: School | O52: =SUM(B52:N52) -> 0
A53: School | O53: =SUM(B53:N53) -> 0
A54: School | O54: =SUM(B54:N54) -> 0
A55: School | O55: =SUM(B55:N55) -> 0
A56: School | O56: =SUM(B56:N56) -> 0
A57: School | O57: =SUM(B57:N57) -> 0
A58: School | O58: =SUM(B58:N58) -> 0
A59: School | O59: =SUM(B59:N59) -> 0
A60: School | O60: =SUM(B60:N60) -> 0
A61: School | O61: =SUM(B61:N61) -> 0
A62: School | O62: =SUM(B62:N62) -> 0
A63: School | O63: =SUM(B63:N63) -> 0
... A127: School | O127: =SUM(B127:N127) -> 0
A128: CHOIR Totals | B128: =SUM(B2:B127) -> 0 | C128: =SUM(C2:C127) -> 0 | D128: =SUM(D2:D127) -> 0 | E128: =SUM(E2:E127) -> 0 | F128: =SUM(F2:F127) -> 0 | G128: =SUM(G2:G127) -> 0 | H128: =SUM(H2:H127) -> 320 | I128: =SUM(I2:I127) -> 495 | ... O128: =SUM(O2:O127) -> 2261 | P128: =SUM(B128:N128) -> 2261
A129: District Enrollment | B129: =Sheet2!B129 -> 2938 | C129: =Sheet2!C129 -> 3161 | D129: =Sheet2!D129 -> 3157 | E129: =Sheet2!E129 -> 3081 | F129: =Sheet2!F129 -> 3217 | G129: =Sheet2!G129 -> 3029 | H129: =Sheet2!H129 -> 3049 | I129: =Sheet2!I129 -> 3042 | ... O129: =Sheet2!O129 -> 39488
A130: Participation % | B130: =B128/B129 -> 0 | C130: =C128/C129 -> 0 | D130: =D128/D129 -> 0 | E130: =E128/E129 -> 0 | F130: =F128/F129 -> 0 | G130: =G128/G129 -> 0 | H130: =H128/H129 -> 0.10495244 | I130: =I128/I129 -> 0.16272189 | ... O130: =O128/O129 -> 0.057257901
A131: Disparity Between Grades | C131: =C128/B128-1 -> #DIV/0! | D131: =D128/C128-1 -> #DIV/0! | E131: =E128/D128-1 -> #DIV/0! | F131: =F128/E128-1 -> #DIV/0! | G131: =G128/F128-1 -> #DIV/0! | H131: =H128/G128-1 -> #DIV/0! | I131: =I128/H128-1 -> 0.546875 | J131: =J128/I128-1 -> 0.052525253 | ... N131: =N128/M128-1 -> 0.12380952
A132: Reduce to 15% Max | B132: 0 | C132: 0 | D132: 0 | E132: 0 | F132: 0 | G132: 0 | H132: =H128 -> 320 | I132: =H132*0.85 -> 272 | J132: =I132*0.85 -> 231.2 | K132: =J132*0.85 -> 196.52 | L132: =K132*0.85 -> 167.042 | M132: =L132*0.85 -> 141.9857 | N132: =M132*0.85 -> 120.68784 | O132: =SUM(B132:N132) -> 1449.4355
H135: Grade 6 | I135: Grade 7 | J135: Grade 8 | K135: Grade 9 | L135: Grade 10 | M135: Grade 11 | N135: Grade 12 | O135: Total
A136: Secondary Ensembles (Annual) | O136: =SUM(H136:N136) -> 0
A137: Secondary Ensembles (Semester) | O137: =SUM(H137:N137)/2 -> 0
A138: Total Secondary Ensembles | O138: =SUM(O136:O137) -> 0
A140: Total Choir | O140: =O128+O138 -> 2261
A141: Secondary Choir (6-12) | B141: =SUM(H128:N128) -> 2261

Sheet Sheet5
A1: FTE SUMMARY
A3: All Elementary | B3: =Sheet1!B108 -> 20.784
A4: All Middle School | B4: =Sheet1!B109 -> 11.466
A5: All High School | B5: =Sheet1!B110 -> 8.25
A6: Other Music | B6: =Sheet1!B111 -> 0.075
A7: Non-Music | B7: =Sheet1!B112 -> 3.991
A8: Total FTE | B8: =Sheet1!B113 -> 44.566
A9: Total Secondary | B9: =Sheet1!B114 -> 19.716
A12: INSTRUMENTAL
A14: Elementary Band | B14: =Sheet1!B118 -> 0
A15: Middle School Band | B15: =Sheet1!B119 -> 5.832
A16: High School Band | B16: =Sheet1!B120 -> 3.517
A17: Total Band | B17: =Sheet1!B121 -> 9.349
A18: Secondary Band (6-12) | B18: =Sheet1!B122 -> 9.349
A20: Elementary Strings | B20: =Sheet1!B124 -> 0
A21: Middle School Strings | B21: =Sheet1!B125 -> 0.084
A22: High School Strings | B22: =Sheet1!B126 -> 0.083
A23: Total Strings | B23: =Sheet1!B127 -> 0.167
A24: Secondary Strings (6-12) | B24: =Sheet1!B128 -> 0.167
A26: CHORAL
A28: Middle School Choir | B28: =Sheet1!B132 -> 3.999
A29: High School Choir | B29: =Sheet1!B133 -> 3.65
A30: Secondary Choir (6-12) | B30: =Sheet1!B134 -> 7.649
A32: MUSIC PERFORMANCE
A34: Elementary | B34: =Sheet1!B138 -> 0
A35: Middle School | B35: =Sheet1!B139 -> 9.915
A36: High School | B36: =Sheet1!B140 -> 7.25
A37: Secondary (6-12) | B37: =Sheet1!B141 -> 17.165
A39: GENERAL MUSIC
A41: Elementary Vocal/General | B41: =Sheet1!B145 -> 20.784
A42: Middle School | B42: =Sheet1!B146 -> 1.551
A43: High School | B43: =Sheet1!B147 -> 1
A44: All General | B44: =Sheet1!B148 -> 23.335
A45: Secondary General (6-12) | B45: =SUM(B42:B43) -> 2.551
B47: {=B47:O47K} -> #NAME? | C47: Grade 1 | D47: Grade 2 | E47: Grade 3 | F47: Grade 4 | G47: Grade 5 | H47: Grade 6 | I47: Grade 7 | J47: Grade 8 | K47: Grade 9 | L47: Grade 10 | M47: Grade 11 | N47: Grade 12 | O47: Total
A48: DISTRICT ENROLLMENT | B48: =Sheet2!B129 -> 2938 | C48: =Sheet2!C129 -> 3161 | D48: =Sheet2!D129 -> 3157 | E48: =Sheet2!E129 -> 3081 | F48: =Sheet2!F129 -> 3217 | G48: =Sheet2!G129 -> 3029 | H48: =Sheet2!H129 -> 3049 | I48: =Sheet2!I129 -> 3042 | ... O48: =Sheet2!O129 -> 39488
A50: Grades 1-5 | B50: =SUM(B48:G48) -> 18583
A51: Grades 3-5 | B51: =SUM(E48:G48) -> 9327
A52: Grades 4-5 | B52: =SUM(F48:G48) -> 6246
A53: Grades 6-8 | B53: =SUM(H48:J48) -> 9072
A54: Grades 9-12 | B54: =SUM(K48:N48) -> 11833
A55: Grades 6-12 | B55: =SUM(H48:N48) -> 20905
A59: MUSIC PERFORMANCE ENROLLMENT
A61: All Band | B61: =Sheet2!O140 -> 2216
A62: All Strings | B62: =Sheet3!O140 -> 30
A63: All Choir | B63: =Sheet4!O140 -> 2261
A64: Total | B64: =SUM(B61:B63) -> 4507
A65: Secondary Band | B65: =Sheet2!B141 -> 2093
A66: Secondary Strings | B66: =Sheet3!B141 -> 30
A67: Secondary Choir | B67: =Sheet4!B141 -> 2261
A68: Total | B68: =SUM(B65:B67) -> 4384
A72: STUDENT FACULTY RATIOS (SFR)
A73: ELIGIBLE STUDENTS
B74: Students | C74: FTE | D74: SFR
A75: All Students/All Faculty | B75: =O48 -> 39488 | C75: =B8 -> 44.566 | D75: =B75/C75 -> 886.05664
A77: Elementary Vocal/General | B77: =B50 -> 18583 | C77: =B41 -> 20.784 | D77: =B77/C77 -> 894.10123
A78: Elementary Band | B78: =G48 -> 3029 | C78: =B14 -> 0 | D78: =B78/C78 -> #DIV/0!
A79: Elementary Strings | B79: =G48 -> 3029 | C79: =B20 -> 0 | D79: =B79/C79 -> #DIV/0!
A80: All Elementary (K-5) | B80: =B50 -> 18583 | C80: =B3 -> 20.784 | D80: =B80/C80 -> 894.10123
A82: Middle School General | B82: =B53 -> 9072 | C82: =B42 -> 1.551 | D82: =B82/C82 -> 5849.1296
A83: Middle School Band | B83: =B53 -> 9072 | C83: =B15 -> 5.832 | D83: =B83/C83 -> 1555.5556
A84: Middle School Strings | B84: =B53 -> 9072 | C84: =B21 -> 0.084 | D84: =B84/C84 -> 108000
A85: Middle School Choir | B85: =B53 -> 9072 | C85: =B28 -> 3.999 | D85: =B85/C85 -> 2268.5671
A86: All Middle School | B86: =B53 -> 9072 | C86: =B4 -> 11.466 | D86: =B86/C86 -> 791.20879
A88: High School General | B88: =B54 -> 11833 | C88: =B43 -> 1 | D88: =B88/C88 -> 11833
A89: High School Band | B89: =B54 -> 11833 | C89: =B16 -> 3.517 | D89: =B89/C89 -> 3364.5152
A90: High School Strings | B90: =B54 -> 11833 | C90: =B22 -> 0.083 | D90: =B90/C90 -> 142566.27
A91: High School Choir | B91: =B54 -> 11833 | C91: =B29 -> 3.65 | D91: =B91/C91 -> 3241.9178
A92: All High School | B92: =B54 -> 11833 | C92: =B5 -> 8.25 | D92: =B92/C92 -> 1434.303
A94: SECONDARY FTE (6-12)
B95: Students | C95: FTE | D95: SFR
A96: Secondary General | B96: =B55 -> 20905 | C96: =B45 -> 2.551 | D96: =B96/C96 -> 8194.8256
A97: Secondary Band | B97: =B55 -> 20905 | C97: =B18 -> 9.349 | D97: =B97/C97 -> 2236.068
A98: Secondary Strings | B98: =B55 -> 20905 | C98: =B24 -> 0.167 | D98: =B98/C98 -> 125179.64
A99: Secondary Choir | B99: =B55 -> 20905 | C99: =B30 -> 7.649 | D99: =B99/C99 -> 2733.037
A100: Secondary Music Performance | B100: =B55 -> 20905 | C100: =SUM(C97:C99) -> 17.165 | D100: =B100/C100 -> 1217.8852
A104: AVERAGE FTE PER SCHOOL
B105: Schools | C105: FTE | D105: Average
A106: All Students/All Faculty | B106: 51 | C106: =B8 -> 44.566 | D106: =C106/B106 -> 0.87384314
A108: Elementary Vocal/General | B108: 33 | C108: =B41 -> 20.784 | D108: =C108/B108 -> 0.62981818
A109: Elementary Band | B109: 33 | C109: =B14 -> 0 | D109: =C109/B109 -> 0
A110: Elementary Orchestra | B110: 33 | C110: =B20 -> 0 | D110: =C110/B110 -> 0
A111: All Elementary (K-%) | B111: 33 | C111: =B3 -> 20.784 | D111: =C111/B111 -> 0.62981818
A113: Middle School General | B113: 11 | C113: =B42 -> 1.551 | D113: =C113/B113 -> 0.141
A114: Middle School Band | B114: 11 | C114: =B15 -> 5.832 | D114: =C114/B114 -> 0.53018182
A115: Middle School Strings | B115: 11 | C115: =B21 -> 0.084 | D115: =C115/B115 -> 0.0076363636
A116: Middle School Choir | B116: 11 | C116: =B28 -> 3.999 | D116: =C116/B116 -> 0.36354545
A117: All Middle School | B117: 11 | C117: =B4 -> 11.466 | D117: =C117/B117 -> 1.0423636
A119: High School General | B119: 7 | C119: =B43 -> 1 | D119: =C119/B119 -> 0.14285714
A120: High School Band | B120: 7 | C120: =B16 -> 3.517 | D120: =C120/B120 -> 0.50242857
A121: High School Strings | B121: 7 | C121: =B22 -> 0.083 | D121: =C121/B121 -> 0.011857143
A122: High School Choir | B122: 7 | C122: =B29 -> 3.65 | D122: =C122/B122 -> 0.52142857
A123: All High School | B123: 7 | C123: =B5 -> 8.25 | D123: =C123/B123 -> 1.1785714
A126: MUSIC PERFORMANCE TEACHER LOADS
A128: Secondary Music Performance Students | B128: =B68 -> 4384
A129: Secondary Music Performance Teachers | B129: =C100 -> 17.165
A130: Average Load | B130: =B128/B129 -> 255.40344
A134: FTE vs FTE Values (6 Period Load)
B135: Class Size | C135: Load
A136: Secondary Classroom Teacher (Non-music) | B136: 26 | C136: =B136*6 -> 156
...

Sheet Sheet6
