Workbook

Sheet FTE
A1: Appendix A: Music Teacher FTE by Area & Level
B2: Elementary | E2: Middle School | I2: High School | M2: Other | N2: Non- | O2: Total
B3: Voc/Gen | C3: Band | D3: Orch | E3: Gen | F3: Band | G3: Orch | H3: Choir | I3: Gen | J3: Band | K3: Orch | L3: Choir | M3: Music | N3: Music | Q3: Name
A4: Teacher #1 | O4: =SUM(B4:N4) -> 0
A5: Teacher #2 | O5: =SUM(B5:N5) -> 0
A6: Teacher #3 | O6: =SUM(B6:N6) -> 0
A7: Teacher #4 | O7: =SUM(B7:N7) -> 0
A8: Teacher #5 | O8: =SUM(B8:N8) -> 0
A9: Teacher #6 | O9: =SUM(B9:N9) -> 0
A10: Teacher #7 | O10: =SUM(B10:N10) -> 0
A11: Teacher #8 | O11: =SUM(B11:N11) -> 0
A12: Teacher #9 | O12: =SUM(B12:N12) -> 0
A13: Teacher #10 | O13: =SUM(B13:N13) -> 0
A14: Teacher # | O14: =SUM(B14:N14) -> 0
A15: Teacher # | O15: =SUM(B15:N15) -> 0
... A103: Teacher # | O103: =SUM(B103:N103) -> 0
A104: Totals | B104: =SUM(B4:B103) -> 0 | C104: =SUM(C4:C103) -> 0 | D104: =SUM(D4:D103) -> 0 | E104: =SUM(E4:E103) -> 0 | F104: =SUM(F4:F103) -> 0 | G104: =SUM(G4:G103) -> 0 | H104: =SUM(H4:H103) -> 0 | I104: =SUM(I4:I103) -> 0 | ... O104: =SUM(O4:O103) -> 0 | P104: =SUM(B104:N104) -> 0
A107: FTE SUMMARY
A109: All Elementary | B109: =SUM(B104:D104) -> 0
A110: All Middle School | B110: =SUM(E104:H104) -> 0
A111: All High School | B111: =SUM(I104:L104) -> 0
A112: Other Music | B112: =M104 -> 0
A113: Non-Music | B113: =N104 -> 0
A114: Total FTE | B114: =SUM(B109:B113) -> 0
A115: Total Secondary | B115: =SUM(B110:B111) -> 0
A117: INSTRUMENTAL
A119: Elementary Band | B119: =SUM(C104) -> 0
A120: Middle School Band | B120: =SUM(F104) -> 0
A121: High School Band | B121: =SUM(J104) -> 0
A122: Total Band | B122: =SUM(B119:B121) -> 0
A123: Secondary Band (6-12) | B123: =SUM(B120:B121) -> 0
A125: Elementary Strings | B125: =SUM(D104) -> 0
A126: Middle School Strings | B126: =SUM(G104) -> 0
A127: High School Strings | B127: =SUM(K104) -> 0
A128: Total Strings | B128: =SUM(B125:B127) -> 0
A129: Secondary Strings (6-12) | B129: =SUM(B126:B127) -> 0
A131: CHORAL
A133: Middle School Choir | B133: =SUM(H104) -> 0
A134: High School Choir | B134: =SUM(L104) -> 0
A135: Secondary Choir (6-12) | B135: =SUM(B133:B134) -> 0
A137: MUSIC PERFORMANCE
A139: Elementary | B139: =SUM(C104:D104) -> 0
A140: Middle School | B140: =SUM(F104:H104) -> 0
A141: High School | B141: =SUM(J104:L104) -> 0
A142: Secondary (6-12) | B142: =SUM(B140:B141) -> 0
A144: GENERAL MUSIC
A146: Elementary Vocal/General | B146: =SUM(B104) -> 0
A147: Middle School | B147: =SUM(E104) -> 0
A148: High School | B148: =SUM(I104) -> 0
A149: All General | B149: =SUM(B146:B148) -> 0
A150: Secondary General (6-12) | B150: =SUM(B147:B148) -> 0
A153: Table : Music Teacher FTE by Area & Level
A154: Category | B154: FTE
A155: Elementary Vocal/General | B155: =B104 -> 0
A156: Elementary Band | B156: =C104 -> 0
A157: Elementary Strings | B157: =D104 -> 0
A158: Middle School General | B158: =E104 -> 0
A159: Middle School Band | B159: =F104 -> 0
A160: Middle School Orchestra | B160: =G104 -> 0
A161: Middle School Choir | B161: =H104 -> 0
A162: High School General | B162: =I104 -> 0
A163: High School Band | B163: =J104 -> 0
A164: High School Orchestra | B164: =K104 -> 0
A165: High School Choir | B165: =L104 -> 0
A166: Other Music | B166: =M104 -> 0
A167: Non-Music | B167: =N104 -> 0
A168: TOTAL | B168: =SUM(B155:B167) -> 0

Sheet BAND
A1: Table : Student Participation - Band
A2: School | B2: K | C2: Gr 1 | D2: Gr 2 | E2: Gr 3 | F2: Gr 4 | G2: Gr 5 | H2: Gr 6 | I2: Gr 7 | J2: Gr 8 | K2: Gr 9 | L2: Gr 10 | M2: Gr 11 | N2: Gr 12 | O2: Total
A3: School | O3: =SUM(B3:N3) -> 0
A4: School | O4: =SUM(B4:N4) -> 0
A5: School | O5: =SUM(B5:N5) -> 0
A6: School | O6: =SUM(B6:N6) -> 0
A7: School | O7: =SUM(B7:N7) -> 0
A8: School | O8: =SUM(B8:N8) -> 0
A9: School | O9: =SUM(B9:N9) -> 0
A10: School | O10: =SUM(B10:N10) -> 0
A11: School | O11: =SUM(B11:N11) -> 0
A12: School | O12: =SUM(B12:N12) -> 0
A13: School | O13: =SUM(B13:N13) -> 0
A14: School | O14: =SUM(B14:N14) -> 0
... A128: School | O128: =SUM(B128:N128) -> 0
A129: Band Totals | B129: =SUM(B3:B128) -> 0 | C129: =SUM(C3:C128) -> 0 | D129: =SUM(D3:D128) -> 0 | E129: =SUM(E3:E128) -> 0 | F129: =SUM(F3:F128) -> 0 | G129: =SUM(G3:G128) -> 0 | H129: =SUM(H3:H128) -> 0 | I129: =SUM(I3:I128) -> 0 | ... O129: =SUM(O3:O128) -> 0 | P129: =SUM(B129:N129) -> 0
A130: District Enrollment | B130: ='DISTRICT DATA'!B48 -> 0 | C130: ='DISTRICT DATA'!C48 -> 0 | D130: ='DISTRICT DATA'!D48 -> 0 | E130: ='DISTRICT DATA'!E48 -> 0 | F130: ='DISTRICT DATA'!F48 -> 0 | G130: ='DISTRICT DATA'!G48 -> 0 | H130: ='DISTRICT DATA'!H48 -> 0 | I130: ='DISTRICT DATA'!I48 -> 0 | ... N130: ='DISTRICT DATA'!N48 -> 0 | O130: =SUM(B130:N130) -> 0
A131: Participation % | B131: =B129/B130 -> #DIV/0! | C131: =C129/C130 -> #DIV/0! | D131: =D129/D130 -> #DIV/0! | E131: =E129/E130 -> #DIV/0! | F131: =F129/F130 -> #DIV/0! | G131: =G129/G130 -> #DIV/0! | H131: =H129/H130 -> #DIV/0! | I131: =I129/I130 -> #DIV/0! | ... O131: =O129/O130 -> #DIV/0!
A132: Disparity Between Grades | C132: =(C129/B129)-1 -> #DIV/0! | D132: =(D129/C129)-1 -> #DIV/0! | E132: =(E129/D129)-1 -> #DIV/0! | F132: =(F129/E129)-1 -> #DIV/0! | G132: =(G129/F129)-1 -> #DIV/0! | H132: =(H129/G129)-1 -> #DIV/0! | I132: =(I129/H129)-1 -> #DIV/0! | J132: =(J129/I129)-1 -> #DIV/0! | ... N132: =(N129/M129)-1 -> #DIV/0!
A133: Reduce to 15% Max | B133: =B129 -> 0 | C133: =C129 -> 0 | D133: =D129 -> 0 | E133: =E129 -> 0 | F133: =F129 -> 0 | G133: =G129 -> 0 | H133: =G133*0.85 -> 0 | I133: =H133*0.85 -> 0 | J133: =I133*0.85 -> 0 | K133: =J133*0.85 -> 0 | L133: =K133*0.85 -> 0 | M133: =L133*0.85 -> 0 | N133: =M133*0.85 -> 0 | O133: =SUM(B133:N133) -> 0
A134: Create a Goal/Vision | B134: =B129 -> 0 | C134: =C129 -> 0 | D134: =D129 -> 0 | E134: =E129 -> 0 | F134: =F129 -> 0 | G134: =G130*0.5 -> 0 | H134: =G134*0.85 -> 0 | I134: =H134*0.85 -> 0 | J134: =I134*0.85 -> 0 | K134: =J134*0.85 -> 0 | L134: =K134*0.85 -> 0 | M134: =L134*0.85 -> 0 | N134: =M134*0.85 -> 0 | O134: =SUM(G134:N134) -> 0
H136: Gr 6 | I136: Gr 7 | J136: Gr 8 | K136: Gr 9 | L136: Gr 10 | M136: Gr 11 | N136: Gr 12 | O136: Total
A137: Secondary Ensembles (Annual) | O137: =SUM(H137:N137) -> 0
A138: Secondary Ensembles (Semester) | O138: =SUM(H138:N138)/2 -> 0
A139: Total Secondary Ensembles | O139: =SUM(O137:O138) -> 0
A141: Total Band | O141: =O129+O139 -> 0
A142: Secondary Band (6-12) | B142: =SUM(H129:N129)+O139 -> 0

Sheet ORCHESTRA
A1: Table : Student Participation - Orchestra
A2: School | B2: K | C2: Gr 1 | D2: Gr 2 | E2: Gr 3 | F2: Gr 4 | G2: Gr 5 | H2: Gr 6 | I2: Gr 7 | J2: Gr 8 | K2: Gr 9 | L2: Gr 10 | M2: Gr 11 | N2: Gr 12 | O2: Total
A3: School | O3: =SUM(B3:N3) -> 0
A4: School | O4: =SUM(B4:N4) -> 0
A5: School | O5: =SUM(B5:N5) -> 0
A6: School | O6: =SUM(B6:N6) -> 0
A7: School | O7: =SUM(B7:N7) -> 0
A8: School | O8: =SUM(B8:N8) -> 0
A9: School | O9: =SUM(B9:N9) -> 0
A10: School | O10: =SUM(B10:N10) -> 0
A11: School | O11: =SUM(B11:N11) -> 0
A12: School | O12: =SUM(B12:N12) -> 0
A13: School | O13: =SUM(B13:N13) -> 0
A14: School | O14: =SUM(B14:N14) -> 0
... A128: School | O128: =SUM(B128:N128) -> 0
A129: String Totals | B129: =SUM(B3:B128) -> 0 | C129: =SUM(C3:C128) -> 0 | D129: =SUM(D3:D128) -> 0 | E129: =SUM(E3:E128) -> 0 | F129: =SUM(F3:F128) -> 0 | G129: =SUM(G3:G128) -> 0 | H129: =SUM(H3:H128) -> 0 | I129: =SUM(I3:I128) -> 0 | ... O129: =SUM(O3:O128) -> 0 | P129: =SUM(O3:O128) -> 0
A130: District Enrollment | B130: ='DISTRICT DATA'!B48 -> 0 | C130: ='DISTRICT DATA'!C48 -> 0 | D130: ='DISTRICT DATA'!D48 -> 0 | E130: ='DISTRICT DATA'!E48 -> 0 | F130: ='DISTRICT DATA'!F48 -> 0 | G130: ='DISTRICT DATA'!G48 -> 0 | H130: ='DISTRICT DATA'!H48 -> 0 | I130: ='DISTRICT DATA'!I48 -> 0 | ... N130: ='DISTRICT DATA'!N48 -> 0 | O130: =SUM(B130:N130) -> 0
A131: Participation % | B131: =B129/B130 -> #DIV/0! | C131: =C129/C130 -> #DIV/0! | D131: =D129/D130 -> #DIV/0! | E131: =E129/E130 -> #DIV/0! | F131: =F129/F130 -> #DIV/0! | G131: =G129/G130 -> #DIV/0! | H131: =H129/H130 -> #DIV/0! | I131: =I129/I130 -> #DIV/0! | ... O131: =O129/O130 -> #DIV/0!
A132: Disparity Between Grades | C132: =C128 -> 0 | D132: =D128 -> 0 | E132: =E128 -> 0 | F132: =F128 -> 0 | G132: =G128 -> 0 | H132: =H129/G129-1 -> #DIV/0! | I132: =I129/H129-1 -> #DIV/0! | J132: =J129/I129-1 -> #DIV/0! | K132: =K129/J129-1 -> #DIV/0! | L132: =L129/K129-1 -> #DIV/0! | M132: =M129/L129-1 -> #DIV/0! | N132: =N129/M129-1 -> #DIV/0!
A133: Reduce to 15% Max | B133: =B129 -> 0 | C133: =C129 -> 0 | D133: =D129 -> 0 | E133: =E129 -> 0 | F133: =F129 -> 0 | G133: =G129 -> 0 | H133: =G133*0.85 -> 0 | I133: =H133*0.85 -> 0 | J133: =I133*0.85 -> 0 | K133: =J133*0.85 -> 0 | L133: =K133*0.85 -> 0 | M133: =L133*0.85 -> 0 | N133: =M133*0.85 -> 0 | O133: =SUM(B133:N133) -> 0
A134: Create a Goal/Vision | G134: =G130*0.25 -> 0 | H134: =G134*0.85 -> 0 | I134: =H134*0.85 -> 0 | J134: =I134*0.85 -> 0 | K134: =J134*0.85 -> 0 | L134: =K134*0.85 -> 0 | M134: =L134*0.85 -> 0 | N134: =M134*0.85 -> 0 | O134: =SUM(G134:N134) -> 0
H136: Gr 6 | I136: Gr 7 | J136: Gr 8 | K136: Gr 9 | L136: Gr 10 | M136: Gr 11 | N136: Gr 12 | O136: Total
A137: Secondary Ensembles (Annual) | O137: =SUM(H137:N137) -> 0
A138: Secondary Ensembles (Semester) | O138: =SUM(H138:N138)/2 -> 0
A139: Total Secondary Ensembles | O139: =SUM(O137:O138) -> 0
A141: Total Strings | O141: =O129+O139 -> 0
A142: Secondary Strings (6-12) | B142: =SUM(H129:N129)+O139 -> 0

Sheet CHOIR
A1: Table: Student Participation - Choir
A2: School | B2: K | C2: Gr 1 | D2: Gr 2 | E2: Gr 3 | F2: Gr 4 | G2: Gr 5 | H2: Gr 6 | I2: Gr 7 | J2: Gr 8 | K2: Gr 9 | L2: Gr 10 | M2: Gr 11 | N2: Gr 12 | O2: Total
A3: School | O3: =SUM(B3:N3) -> 0
A4: School | O4: =SUM(B4:N4) -> 0
A5: School | O5: =SUM(B5:N5) -> 0
A6: School | O6: =SUM(B6:N6) -> 0
A7: School | O7: =SUM(B7:N7) -> 0
A8: School | O8: =SUM(B8:N8) -> 0
A9: School | O9: =SUM(B9:N9) -> 0
A10: School | O10: =SUM(B10:N10) -> 0
A11: School | O11: =SUM(B11:N11) -> 0
A12: School | O12: =SUM(B12:N12) -> 0
A13: School | O13: =SUM(B13:N13) -> 0
A14: School | O14: =SUM(B14:N14) -> 0
... A128: School | O128: =SUM(B128:N128) -> 0
A129: CHOIR Totals | B129: =SUM(B3:B128) -> 0 | C129: =SUM(C3:C128) -> 0 | D129: =SUM(D3:D128) -> 0 | E129: =SUM(E3:E128) -> 0 | F129: =SUM(F3:F128) -> 0 | G129: =SUM(G3:G128) -> 0 | H129: =SUM(H3:H128) -> 0 | I129: =SUM(I3:I128) -> 0 | ... O129: =SUM(O3:O128) -> 0 | P129: =SUM(B129:N129) -> 0
A130: District Enrollment | B130: ='DISTRICT DATA'!B48 -> 0 | C130: ='DISTRICT DATA'!C48 -> 0 | D130: ='DISTRICT DATA'!D48 -> 0 | E130: ='DISTRICT DATA'!E48 -> 0 | F130: ='DISTRICT DATA'!F48 -> 0 | G130: ='DISTRICT DATA'!G48 -> 0 | H130: ='DISTRICT DATA'!H48 -> 0 | I130: ='DISTRICT DATA'!I48 -> 0 | ... N130: ='DISTRICT DATA'!N48 -> 0 | O130: =SUM(B130:N130) -> 0
A131: Participation % | B131: =B129/B130 -> #DIV/0! | C131: =C129/C130 -> #DIV/0! | D131: =D129/D130 -> #DIV/0! | E131: =E129/E130 -> #DIV/0! | F131: =F129/F130 -> #DIV/0! | G131: =G129/G130 -> #DIV/0! | H131: =H129/H130 -> #DIV/0! | I131: =I129/I130 -> #DIV/0! | ... O131: =O129/O130 -> #DIV/0!
A132: Disparity Between Grades | C132: =C129/B129-1 -> #DIV/0! | D132: =D129/C129-1 -> #DIV/0! | E132: =E129/D129-1 -> #DIV/0! | F132: =F129/E129-1 -> #DIV/0! | G132: =G129/F129-1 -> #DIV/0! | H132: =H129/G129-1 -> #DIV/0! | I132: =I129/H129-1 -> #DIV/0! | J132: =J129/I129-1 -> #DIV/0! | ... N132: =N129/M129-1 -> #DIV/0!
A133: Reduce to 15% Max | B133: =B129 -> 0 | C133: =C129 -> 0 | D133: =D129 -> 0 | E133: =E129 -> 0 | F133: =F129 -> 0 | G133: =G129 -> 0 | H133: =G133*0.85 -> 0 | I133: =H133*0.85 -> 0 | J133: =I133*0.85 -> 0 | K133: =J133*0.85 -> 0 | L133: =K133*0.85 -> 0 | M133: =L133*0.85 -> 0 | N133: =M133*0.85 -> 0 | O133: =SUM(B133:N133) -> 0
A134: Create a Goal/Vision | B134: =B129 -> 0 | C134: =C129 -> 0 | D134: =D129 -> 0 | E134: =E129 -> 0 | F134: =F129 -> 0 | G134: =G130*0.4 -> 0 | H134: =G134*0.85 -> 0 | I134: =H134*0.85 -> 0 | J134: =I134*0.85 -> 0 | K134: =J134*0.85 -> 0 | L134: =K134*0.85 -> 0 | M134: =L134*0.85 -> 0 | N134: =M134*0.85 -> 0 | O134: =SUM(G134:N134) -> 0
H136: Gr 6 | I136: Gr 7 | J136: Gr 8 | K136: Gr 9 | L136: Gr 10 | M136: Gr 11 | N136: Gr 12 | O136: Total
A137: Secondary Ensembles (Annual) | O137: =SUM(H137:N137) -> 0
A138: Secondary Ensembles (Semester) | O138: =SUM(H138:N138)/2 -> 0
A139: Total Secondary Ensembles | O139: =SUM(O137:O138) -> 0
A141: Total Choir | O141: =O129+O139 -> 0
A142: Secondary Choir (6-12) | B142: =SUM(H129:N129)+O139 -> 0

Sheet DISTRICT DATA
A1: FTE SUMMARY
A3: All Elementary | B3: =FTE!B109 -> 0
A4: All Middle School | B4: =FTE!B110 -> 0
A5: All High School | B5: =FTE!B111 -> 0
A6: Other Music | B6: =FTE!B112 -> 0
A7: Non-Music | B7: =FTE!B113 -> 0
A8: Total FTE | B8: =FTE!B114 -> 0
A9: Total Secondary | B9: =FTE!B115 -> 0
A12: INSTRUMENTAL
A14: Elementary Band | B14: =FTE!B119 -> 0
A15: Middle School Band | B15: =FTE!B120 -> 0
A16: High School Band | B16: =FTE!B121 -> 0
A17: Total Band | B17: =FTE!B122 -> 0
A18: Secondary Band (6-12) | B18: =FTE!B123 -> 0
A20: Elementary Strings | B20: =FTE!B125 -> 0
A21: Middle School Strings | B21: =FTE!B126 -> 0
A22: High School Strings | B22: =FTE!B127 -> 0
A23: Total Strings | B23: =FTE!B128 -> 0
A24: Secondary Strings (6-12) | B24: =FTE!B129 -> 0
A26: CHORAL
A28: Middle School Choir | B28: =FTE!B133 -> 0
A29: High School Choir | B29: =FTE!B134 -> 0
A30: Secondary Choir (6-12) | B30: =FTE!B135 -> 0
A32: MUSIC PERFORMANCE
A34: Elementary | B34: =FTE!B139 -> 0
A35: Middle School | B35: =FTE!B140 -> 0
A36: High School | B36: =FTE!B141 -> 0
A37: Secondary (6-12) | B37: =FTE!B142 -> 0
A39: GENERAL MUSIC
A41: Elementary Vocal/General | B41: =FTE!B146 -> 0
A42: Middle School | B42: =FTE!B147 -> 0
A43: High School | B43: =FTE!B148 -> 0
A44: All General | B44: =FTE!B149 -> 0
A45: Secondary General (6-12) | B45: =SUM(B42:B43) -> 0
A47: DISTRICT ENROLLMENT | B47: K | C47: Grade 1 | D47: Grade 2 | E47: Grade 3 | F47: Grade 4 | G47: Grade 5 | H47: Grade 6 | I47: Grade 7 | J47: Grade 8 | K47: Grade 9 | L47: Grade 10 | M47: Grade 11 | N47: Grade 12 | O47: Total
O48: =SUM(B48:N48) -> 0
A50: Grades K-5 | B50: =SUM(B48:G48) -> 0
A51: Grades K-6 | B51: =SUM(B48:H48) -> 0
A52: Grades 3-5 | B52: =SUM(E48:G48) -> 0
A53: Grades 4-5 | B53: =SUM(F48:G48) -> 0
A54: Grades 6-8 | B54: =SUM(H48:J48) -> 0
A55: Grades 7-9 | B55: =SUM(I48:K48) -> 0
A56: Grades 9-12 | B56: =SUM(K48:N48) -> 0
A57: Grades 6-12 | B57: =SUM(H48:N48) -> 0
A58: Grades 7-12 | B58: =SUM(I48:N48) -> 0
A61: MUSIC PERFORMANCE ENROLLMENT
A63: All Band | B63: =BAND!O141 -> 0
A64: All Strings | B64: =ORCHESTRA!O141 -> 0
A65: All Choir | B65: =CHOIR!O141 -> 0
A66: Total | B66: =SUM(B63:B65) -> 0
A67: Secondary Band | B67: =BAND!B142 -> 0
A68: Secondary Strings | B68: =ORCHESTRA!B142 -> 0
A69: Secondary Choir | B69: =CHOIR!B142 -> 0
A70: Total | B70: =SUM(B67:B69) -> 0
A75: Table : Student-Faculty Ratios (SFR) by Area & Level to Eligible Students
B76: Students | C76: FTE | D76: SFR:1
A77: All Students/All Faculty | C77: =B8 -> 0 | D77: =B77/C77 -> #DIV/0!
A79: Elementary Vocal/General | C79: =B41 -> 0 | D79: =B79/C79 -> #DIV/0!
A80: Elementary Band | C80: =B14 -> 0 | D80: =B80/C80 -> #DIV/0!
A81: Elementary Strings | C81: =B20 -> 0 | D81: =B81/C81 -> #DIV/0!
A82: All Elementary (K-5) | C82: =B3 -> 0 | D82: =B82/C82 -> #DIV/0!
A84: Middle School General | C84: =B42 -> 0 | D84: =B88/C84 -> #DIV/0!
A85: Middle School Band | C85: =B15 -> 0 | D85: =B85/C85 -> #DIV/0!
A86: Middle School Strings | C86: =B21 -> 0 | D86: =B86/C86 -> #DIV/0!
A87: Middle School Choir | C87: =B28 -> 0 | D87: =B87/C87 -> #DIV/0!
A88: All Middle School | C88: =B4 -> 0 | D88: =#REF!/C88 -> #REF!
A90: High School General | C90: =B43 -> 0 | D90: =B90/C90 -> #DIV/0!
A91: High School Band | C91: =B16 -> 0 | D91: =B91/C91 -> #DIV/0!
A92: High School Strings | C92: =B22 -> 0 | D92: =B92/C92 -> #DIV/0!
A93: High School Choir | C93: =B29 -> 0 | D93: =B93/C93 -> #DIV/0!
A94: All High School | C94: =B5 -> 0 | D94: =B94/C94 -> #DIV/0!
A96: SECONDARY FTE (6-12)
B97: Students | C97: FTE | D97: SFR:1
A98: Secondary General | B98: =B57 -> 0 | C98: =B45 -> 0 | D98: =B98/C98 -> #DIV/0!
A99: Secondary Band | B99: =B57 -> 0 | C99: =B18 -> 0 | D99: =B99/C99 -> #DIV/0!
A100: Secondary Strings | B100: =B57 -> 0 | C100: =B24 -> 0 | D100: =B100/C100 -> #DIV/0!
A101: Secondary Choir | B101: =B57 -> 0 | C101: =B30 -> 0 | D101: =B101/C101 -> #DIV/0!
A102: Secondary Music Performance | B102: =B57 -> 0 | C102: =SUM(C99:C101) -> 0 | D102: =B102/C102 -> #DIV/0!
A106: Table : Music Teacher FTE - AVERAGE per SCHOOL by AREA & LEVEL
B107: Schools | C107: FTE | D107: Average
A108: All Students/All Faculty | C108: =B8 -> 0 | D108: =C108/B108 -> #DIV/0!
A110: Elementary Vocal/General | C110: =B41 -> 0 | D110: =C110/B110 -> #DIV/0!
A111: Elementary Band | C111: =B14 -> 0 | D111: =C111/B111 -> #DIV/0!
A112: Elementary Orchestra | C112: =B20 -> 0 | D112: =C112/B112 -> #DIV/0!
A113: All Elementary (K-5) | C113: =B3 -> 0 | D113: =C113/B113 -> #DIV/0!
A115: Middle School General | C115: =B42 -> 0 | D115: =C115/B115 -> #DIV/0!
A116: Middle School Band | C116: =B15 -> 0 | D116: =C116/B116 -> #DIV/0!
A117: Middle School Strings | C117: =B21 -> 0 | D117: =C117/B117 -> #DIV/0!
A118: Middle School Choir | C118: =B28 -> 0 | D118: =C118/B118 -> #DIV/0!
A119: All Middle School | C119: =B4 -> 0 | D119: =C119/B119 -> #DIV/0!
A121: High School General | C121: =B43 -> 0 | D121: =C121/B121 -> #DIV/0!
A122: High School Band | C122: =B16 -> 0 | D122: =C122/B122 -> #DIV/0!
A123: High School Strings | C123: =B22 -> 0 | D123: =C123/B123 -> #DIV/0!
A124: High School Choir | C124: =B29 -> 0 | D124: =C124/B124 -> #DIV/0!
A125: All High School | C125: =B5 -> 0 | D125: =C125/B125 -> #DIV/0!
A128: MUSIC PERFORMANCE TEACHER LOADS
A130: Secondary Music Performance Students | B130: =B70 -> 0
A131: Secondary Music Performance Teachers | B131: =C102 -> 0
A132: Average Load | B132: =B130/B131 -> #DIV/0!
A137: FTE vs FTE Values (7 Period Load)
...

Sheet ELEM VOCAL GEN
A1: SCHOOL NAME | B1: K | C1: Gr 1 | D1: Gr 2 | E1: Gr 3 | F1: Gr 4 | G1: Gr 5 | H1: Totals
A2: Number of Students per Grade | H2: =SUM(B2:G2) -> 0 | J2: FTE | K2: =FTE!B104 -> 0
A3: Number of Sections per Grade | H3: =SUM(B3:G3) -> 0 | J3: Avg Minutes | K3: =(H6+H15+H25+H35+H45+H55+H65+H75+H85+H95) -> 0
A4: Number of Sessions per Week | H4: =SUM(B4:G4) -> 0
A5: Length per Session in Minutes | H5: =SUM(B5:G5) -> 0
A6: Totals in Teaching Minutes | B6: =SUM(B3*B4)*B5 -> 0 | C6: =SUM(C3*C4)*C5 -> 0 | D6: =SUM(D3*D4)*D5 -> 0 | E6: =SUM(E3*E4)*E5 -> 0 | F6: =SUM(F3*F4)*F5 -> 0 | G6: =SUM(G3*G4)*G5 -> 0 | H6: =SUM(B6:G6) -> 0
A10: SCHOOL NAME | B10: K | C10: Gr 1 | D10: Gr 2 | E10: Gr 3 | F10: Gr 4 | G10: Gr 5 | H10: Totals
A11: Number of Students per Grade | H11: =SUM(B11:G11) -> 0
A12: Number of Sections per Grade | H12: =SUM(B12:G12) -> 0
A13: Number of Sessions per Week | H13: =SUM(B13:G13) -> 0
A14: Length per Session in Minutes | H14: =SUM(B14:G14) -> 0
A15: Totals in Teaching Minutes | B15: =SUM(B12*B13)*B14 -> 0 | C15: =SUM(C12*C13)*C14 -> 0 | D15: =SUM(D12*D13)*D14 -> 0 | E15: =SUM(E12*E13)*E14 -> 0 | F15: =SUM(F12*F13)*F14 -> 0 | G15: =SUM(G12*G13)*G14 -> 0 | H15: =SUM(B15:G15) -> 0
A20: SCHOOL NAME | B20: K | C20: Gr 1 | D20: Gr 2 | E20: Gr 3 | F20: Gr 4 | G20: Gr 5 | H20: Totals
A21: Number of Students per Grade | H21: =SUM(B21:G21) -> 0
A22: Number of Sections per Grade | H22: =SUM(B22:G22) -> 0
A23: Number of Sessions per Week | H23: =SUM(B23:G23) -> 0
A24: Length per Session in Minutes | H24: =SUM(B24:G24) -> 0
A25: Totals in Teaching Minutes | B25: =SUM(B22*B23)*B24 -> 0 | C25: =SUM(C22*C23)*C24 -> 0 | D25: =SUM(D22*D23)*D24 -> 0 | E25: =SUM(E22*E23)*E24 -> 0 | F25: =SUM(F22*F23)*F24 -> 0 | G25: =SUM(G22*G23)*G24 -> 0 | H25: =SUM(B25:G25) -> 0
A30: SCHOOL NAME | B30: K | C30: Gr 1 | D30: Gr 2 | E30: Gr 3 | F30: Gr 4 | G30: Gr 5 | H30: Totals
A31: Number of Students per Grade | H31: =SUM(B31:G31) -> 0
A32: Number of Sections per Grade | H32: =SUM(B32:G32) -> 0
A33: Number of Sessions per Week | H33: =SUM(B33:G33) -> 0
A34: Length per Session in Minutes | H34: =SUM(B34:G34) -> 0
A35: Totals in Teaching Minutes | B35: =SUM(B32*B33)*B34 -> 0 | C35: =SUM(C32*C33)*C34 -> 0 | D35: =SUM(D32*D33)*D34 -> 0 | E35: =SUM(E32*E33)*E34 -> 0 | F35: =SUM(F32*F33)*F34 -> 0 | G35: =SUM(G32*G33)*G34 -> 0 | H35: =SUM(B35:G35) -> 0
A40: SCHOOL NAME | B40: K | C40: Gr 1 | D40: Gr 2 | E40: Gr 3 | F40: Gr 4 | G40: Gr 5 | H40: Totals
A41: Number of Students per Grade | H41: =SUM(B41:G41) -> 0
A42: Number of Sections per Grade | H42: =SUM(B42:G42) -> 0
A43: Number of Sessions per Week | H43: =SUM(B43:G43) -> 0
A44: Length per Session in Minutes | H44: =SUM(B44:G44) -> 0
A45: Totals in Teaching Minutes | B45: =SUM(B42*B43)*B44 -> 0 | C45: =SUM(C42*C43)*C44 -> 0 | D45: =SUM(D42*D43)*D44 -> 0 | E45: =SUM(E42*E43)*E44 -> 0 | F45: =SUM(F42*F43)*F44 -> 0 | G45: =SUM(G42*G43)*G44 -> 0 | H45: =SUM(B45:G45) -> 0
A50: SCHOOL NAME | B50: K | C50: Gr 1 | D50: Gr 2 | E50: Gr 3 | F50: Gr 4 | G50: Gr 5 | H50: Totals
A51: Number of Students per Grade | H51: =SUM(B51:G51) -> 0
A52: Number of Sections per Grade | H52: =SUM(B52:G52) -> 0
A53: Number of Sessions per Week | H53: =SUM(B53:G53) -> 0
A54: Length per Session in Minutes | H54: =SUM(B54:G54) -> 0
A55: Totals in Teaching Minutes | B55: =SUM(B52*B53)*B54 -> 0 | C55: =SUM(C52*C53)*C54 -> 0 | D55: =SUM(D52*D53)*D54 -> 0 | E55: =SUM(E52*E53)*E54 -> 0 | F55: =SUM(F52*F53)*F54 -> 0 | G55: =SUM(G52*G53)*G54 -> 0 | H55: =SUM(B55:G55) -> 0
A60: SCHOOL NAME | B60: K | C60: Gr 1 | D60: Gr 2 | E60: Gr 3 | F60: Gr 4 | G60: Gr 5 | H60: Totals
A61: Number of Students per Grade | H61: =SUM(B61:G61) -> 0
A62: Number of Sections per Grade | H62: =SUM(B62:G62) -> 0
A63: Number of Sessions per Week | H63: =SUM(B63:G63) -> 0
A64: Length per Session in Minutes | H64: =SUM(B64:G64) -> 0
A65: Totals in Teaching Minutes | B65: =SUM(B62*B63)*B64 -> 0 | C65: =SUM(C62*C63)*C64 -> 0 | D65: =SUM(D62*D63)*D64 -> 0 | E65: =SUM(E62*E63)*E64 -> 0 | F65: =SUM(F62*F63)*F64 -> 0 | G65: =SUM(G62*G63)*G64 -> 0 | H65: =SUM(B65:G65) -> 0
A70: SCHOOL NAME | B70: K | C70: Gr 1 | D70: Gr 2 | E70: Gr 3 | F70: Gr 4 | G70: Gr 5 | H70: Totals
A71: Number of Students per Grade | H71: =SUM(B71:G71) -> 0
A72: Number of Sections per Grade | H72: =SUM(B72:G72) -> 0
A73: Number of Sessions per Week | H73: =SUM(B73:G73) -> 0
A74: Length per Session in Minutes | H74: =SUM(B74:G74) -> 0
A75: Totals in Teaching Minutes | B75: =SUM(B72*B73)*B74 -> 0 | C75: =SUM(C72*C73)*C74 -> 0 | D75: =SUM(D72*D73)*D74 -> 0 | E75: =SUM(E72*E73)*E74 -> 0 | F75: =SUM(F72*F73)*F74 -> 0 | G75: =SUM(G72*G73)*G74 -> 0 | H75: =SUM(B75:G75) -> 0
A80: SCHOOL NAME | B80: K | C80: Gr 1 | D80: Gr 2 | E80: Gr 3 | F80: Gr 4 | G80: Gr 5 | H80: Totals
A81: Number of Students per Grade | H81: =SUM(B81:G81) -> 0
A82: Number of Sections per Grade | H82: =SUM(B82:G82) -> 0
A83: Number of Sessions per Week | H83: =SUM(B83:G83) -> 0
A84: Length per Session in Minutes | H84: =SUM(B84:G84) -> 0
A85: Totals in Teaching Minutes | B85: =SUM(B82*B83)*B84 -> 0 | C85: =SUM(C82*C83)*C84 -> 0 | D85: =SUM(D82*D83)*D84 -> 0 | E85: =SUM(E82*E83)*E84 -> 0 | F85: =SUM(F82*F83)*F84 -> 0 | G85: =SUM(G82*G83)*G84 -> 0 | H85: =SUM(B85:G85) -> 0
A90: SCHOOL NAME | B90: K | C90: Gr 1 | D90: Gr 2 | E90: Gr 3 | F90: Gr 4 | G90: Gr 5 | H90: Totals
A91: Number of Students per Grade | H91: =SUM(B91:G91) -> 0
A92: Number of Sections per Grade | H92: =SUM(B92:G92) -> 0
A93: Number of Sessions per Week | H93: =SUM(B93:G93) -> 0
A94: Length per Session in Minutes | H94: =SUM(B94:G94) -> 0
A95: Totals in Teaching Minutes | B95: =SUM(B92*B93)*B94 -> 0 | C95: =SUM(C92*C93)*C94 -> 0 | D95: =SUM(D92*D93)*D94 -> 0 | E95: =SUM(E92*E93)*E94 -> 0 | F95: =SUM(F92*F93)*F94 -> 0 | G95: =SUM(G92*G93)*G94 -> 0 | H95: =SUM(B95:G95) -> 0
